BEGIN:VCALENDAR
VERSION:2.0
PRODID:-//SAFE Haven for Cats - ECPv6.15.20//NONSGML v1.0//EN
CALSCALE:GREGORIAN
METHOD:PUBLISH
X-WR-CALNAME:SAFE Haven for Cats
X-ORIGINAL-URL:https://www.safehavenforcats.org
X-WR-CALDESC:Events for SAFE Haven for Cats
REFRESH-INTERVAL;VALUE=DURATION:PT1H
X-Robots-Tag:noindex
X-PUBLISHED-TTL:PT1H
BEGIN:VTIMEZONE
TZID:America/New_York
BEGIN:DAYLIGHT
TZOFFSETFROM:-0500
TZOFFSETTO:-0400
TZNAME:EDT
DTSTART:20230312T070000
END:DAYLIGHT
BEGIN:STANDARD
TZOFFSETFROM:-0400
TZOFFSETTO:-0500
TZNAME:EST
DTSTART:20231105T060000
END:STANDARD
BEGIN:DAYLIGHT
TZOFFSETFROM:-0500
TZOFFSETTO:-0400
TZNAME:EDT
DTSTART:20240310T070000
END:DAYLIGHT
BEGIN:STANDARD
TZOFFSETFROM:-0400
TZOFFSETTO:-0500
TZNAME:EST
DTSTART:20241103T060000
END:STANDARD
BEGIN:DAYLIGHT
TZOFFSETFROM:-0500
TZOFFSETTO:-0400
TZNAME:EDT
DTSTART:20250309T070000
END:DAYLIGHT
BEGIN:STANDARD
TZOFFSETFROM:-0400
TZOFFSETTO:-0500
TZNAME:EST
DTSTART:20251102T060000
END:STANDARD
END:VTIMEZONE
BEGIN:VEVENT
DTSTART;VALUE=DATE:20241203
DTEND;VALUE=DATE:20241204
DTSTAMP:20260421T124931
CREATED:20241202T153340Z
LAST-MODIFIED:20241202T153340Z
UID:31965-1733184000-1733270399@www.safehavenforcats.org
SUMMARY:Giving Tuesday
DESCRIPTION:Help us rescue tomorrow’s best friend by donating TODAY! \nThanks to generous supporters\, all donations made today are triple-matched. That means more lifesaving\, more BFFs\, and MORE CATS! Help us meet the increased needs of our community as SAFE Haven has always done. \nTo Do: \n\nDonate before midnight to support our lifesaving work.\nShare our social media posts on Facebook\, Instagram\, LinkedIn\, and Threads.
URL:https://www.safehavenforcats.org/event-sh/giving-tuesday-2024/
LOCATION:SAFE Haven for Cats\, 8431-137 Garvey Dr\, Raleigh\, NC\, 27616
CATEGORIES:Adoption,Clinic,Fundraising,Notice,Seasonal,Volunteer
ATTACH;FMTTYPE=image/jpeg:https://www.safehavenforcats.org/wp-content/uploads/2024/12/SH-Giving-Tuesday-Event-1500x628px.jpg
END:VEVENT
END:VCALENDAR